BEGIN:VCALENDAR
VERSION:2.0
PRODID:-//Bastard Café - ECPv6.15.17//NONSGML v1.0//EN
CALSCALE:GREGORIAN
METHOD:PUBLISH
X-ORIGINAL-URL:https://bastardcafe.dk
X-WR-CALDESC:Events for Bastard Café
REFRESH-INTERVAL;VALUE=DURATION:PT1H
X-Robots-Tag:noindex
X-PUBLISHED-TTL:PT1H
BEGIN:VTIMEZONE
TZID:Europe/Copenhagen
BEGIN:DAYLIGHT
TZOFFSETFROM:+0100
TZOFFSETTO:+0200
TZNAME:CEST
DTSTART:20290325T010000
END:DAYLIGHT
BEGIN:STANDARD
TZOFFSETFROM:+0200
TZOFFSETTO:+0100
TZNAME:CET
DTSTART:20291028T010000
END:STANDARD
BEGIN:DAYLIGHT
TZOFFSETFROM:+0100
TZOFFSETTO:+0200
TZNAME:CEST
DTSTART:20300331T010000
END:DAYLIGHT
BEGIN:STANDARD
TZOFFSETFROM:+0200
TZOFFSETTO:+0100
TZNAME:CET
DTSTART:20301027T010000
END:STANDARD
BEGIN:DAYLIGHT
TZOFFSETFROM:+0100
TZOFFSETTO:+0200
TZNAME:CEST
DTSTART:20310330T010000
END:DAYLIGHT
BEGIN:STANDARD
TZOFFSETFROM:+0200
TZOFFSETTO:+0100
TZNAME:CET
DTSTART:20311026T010000
END:STANDARD
BEGIN:DAYLIGHT
TZOFFSETFROM:+0100
TZOFFSETTO:+0200
TZNAME:CEST
DTSTART:20320328T010000
END:DAYLIGHT
BEGIN:STANDARD
TZOFFSETFROM:+0200
TZOFFSETTO:+0100
TZNAME:CET
DTSTART:20321031T010000
END:STANDARD
END:VTIMEZONE
BEGIN:VEVENT
DTSTART;TZID=Europe/Copenhagen:20301109T140000
DTEND;TZID=Europe/Copenhagen:20301109T180000
DTSTAMP:20260422T065030
CREATED:20260325T181219Z
LAST-MODIFIED:20260325T181219Z
UID:10001700-1920463200-1920477600@bastardcafe.dk
SUMMARY:Social Saturdays - IN NØRREBRO
DESCRIPTION:Easy Games. New People. Good Vibes.\nSocial Saturday at Bastard Café Nørrebro is your weekly dose of connection and fun.\nWe keep it super simple:• Walk in• Get matched with a friendly group• Learn a fun\, fast\, easy game in two minutes• Laugh\, play\, and meet great people\nOur Gurus are there to help you jump in – and switch things up whenever you feel like it.\nNo sign-up\, no pressure – just a cozy table and good company.\n• When? Saturdays\, 14:00–17:00• Where? Bastard Café Nørrebro – Borgmestervangen 21• How much? Free\nCome hang out\, play a few rounds (or stay all afternoon)\, and make your Saturday a little more social.
URL:https://bastardcafe.dk/event/social-saturdays-in-norrebro/2030-11-09/
LOCATION:Bastard Café Nørrebro\, Borgmestervangen 21\, Copenhagen N\, 2200\, Denmark
ATTACH;FMTTYPE=image/png:https://bastardcafe.dk/wp-content/uploads/2025/11/FB-events-covers-3.png
END:VEVENT
BEGIN:VEVENT
DTSTART;TZID=Europe/Copenhagen:20301116T140000
DTEND;TZID=Europe/Copenhagen:20301116T180000
DTSTAMP:20260422T065030
CREATED:20260325T181219Z
LAST-MODIFIED:20260325T181219Z
UID:10001701-1921068000-1921082400@bastardcafe.dk
SUMMARY:Social Saturdays - IN NØRREBRO
DESCRIPTION:Easy Games. New People. Good Vibes.\nSocial Saturday at Bastard Café Nørrebro is your weekly dose of connection and fun.\nWe keep it super simple:• Walk in• Get matched with a friendly group• Learn a fun\, fast\, easy game in two minutes• Laugh\, play\, and meet great people\nOur Gurus are there to help you jump in – and switch things up whenever you feel like it.\nNo sign-up\, no pressure – just a cozy table and good company.\n• When? Saturdays\, 14:00–17:00• Where? Bastard Café Nørrebro – Borgmestervangen 21• How much? Free\nCome hang out\, play a few rounds (or stay all afternoon)\, and make your Saturday a little more social.
URL:https://bastardcafe.dk/event/social-saturdays-in-norrebro/2030-11-16/
LOCATION:Bastard Café Nørrebro\, Borgmestervangen 21\, Copenhagen N\, 2200\, Denmark
ATTACH;FMTTYPE=image/png:https://bastardcafe.dk/wp-content/uploads/2025/11/FB-events-covers-3.png
END:VEVENT
BEGIN:VEVENT
DTSTART;TZID=Europe/Copenhagen:20301123T140000
DTEND;TZID=Europe/Copenhagen:20301123T180000
DTSTAMP:20260422T065030
CREATED:20260325T181219Z
LAST-MODIFIED:20260325T181219Z
UID:10001702-1921672800-1921687200@bastardcafe.dk
SUMMARY:Social Saturdays - IN NØRREBRO
DESCRIPTION:Easy Games. New People. Good Vibes.\nSocial Saturday at Bastard Café Nørrebro is your weekly dose of connection and fun.\nWe keep it super simple:• Walk in• Get matched with a friendly group• Learn a fun\, fast\, easy game in two minutes• Laugh\, play\, and meet great people\nOur Gurus are there to help you jump in – and switch things up whenever you feel like it.\nNo sign-up\, no pressure – just a cozy table and good company.\n• When? Saturdays\, 14:00–17:00• Where? Bastard Café Nørrebro – Borgmestervangen 21• How much? Free\nCome hang out\, play a few rounds (or stay all afternoon)\, and make your Saturday a little more social.
URL:https://bastardcafe.dk/event/social-saturdays-in-norrebro/2030-11-23/
LOCATION:Bastard Café Nørrebro\, Borgmestervangen 21\, Copenhagen N\, 2200\, Denmark
ATTACH;FMTTYPE=image/png:https://bastardcafe.dk/wp-content/uploads/2025/11/FB-events-covers-3.png
END:VEVENT
BEGIN:VEVENT
DTSTART;TZID=Europe/Copenhagen:20301130T140000
DTEND;TZID=Europe/Copenhagen:20301130T180000
DTSTAMP:20260422T065030
CREATED:20260325T181219Z
LAST-MODIFIED:20260325T181219Z
UID:10001703-1922277600-1922292000@bastardcafe.dk
SUMMARY:Social Saturdays - IN NØRREBRO
DESCRIPTION:Easy Games. New People. Good Vibes.\nSocial Saturday at Bastard Café Nørrebro is your weekly dose of connection and fun.\nWe keep it super simple:• Walk in• Get matched with a friendly group• Learn a fun\, fast\, easy game in two minutes• Laugh\, play\, and meet great people\nOur Gurus are there to help you jump in – and switch things up whenever you feel like it.\nNo sign-up\, no pressure – just a cozy table and good company.\n• When? Saturdays\, 14:00–17:00• Where? Bastard Café Nørrebro – Borgmestervangen 21• How much? Free\nCome hang out\, play a few rounds (or stay all afternoon)\, and make your Saturday a little more social.
URL:https://bastardcafe.dk/event/social-saturdays-in-norrebro/2030-11-30/
LOCATION:Bastard Café Nørrebro\, Borgmestervangen 21\, Copenhagen N\, 2200\, Denmark
ATTACH;FMTTYPE=image/png:https://bastardcafe.dk/wp-content/uploads/2025/11/FB-events-covers-3.png
END:VEVENT
BEGIN:VEVENT
DTSTART;TZID=Europe/Copenhagen:20301207T140000
DTEND;TZID=Europe/Copenhagen:20301207T180000
DTSTAMP:20260422T065030
CREATED:20260325T181219Z
LAST-MODIFIED:20260325T181219Z
UID:10001704-1922882400-1922896800@bastardcafe.dk
SUMMARY:Social Saturdays - IN NØRREBRO
DESCRIPTION:Easy Games. New People. Good Vibes.\nSocial Saturday at Bastard Café Nørrebro is your weekly dose of connection and fun.\nWe keep it super simple:• Walk in• Get matched with a friendly group• Learn a fun\, fast\, easy game in two minutes• Laugh\, play\, and meet great people\nOur Gurus are there to help you jump in – and switch things up whenever you feel like it.\nNo sign-up\, no pressure – just a cozy table and good company.\n• When? Saturdays\, 14:00–17:00• Where? Bastard Café Nørrebro – Borgmestervangen 21• How much? Free\nCome hang out\, play a few rounds (or stay all afternoon)\, and make your Saturday a little more social.
URL:https://bastardcafe.dk/event/social-saturdays-in-norrebro/2030-12-07/
LOCATION:Bastard Café Nørrebro\, Borgmestervangen 21\, Copenhagen N\, 2200\, Denmark
ATTACH;FMTTYPE=image/png:https://bastardcafe.dk/wp-content/uploads/2025/11/FB-events-covers-3.png
END:VEVENT
BEGIN:VEVENT
DTSTART;TZID=Europe/Copenhagen:20301214T140000
DTEND;TZID=Europe/Copenhagen:20301214T180000
DTSTAMP:20260422T065030
CREATED:20260325T181219Z
LAST-MODIFIED:20260325T181219Z
UID:10001705-1923487200-1923501600@bastardcafe.dk
SUMMARY:Social Saturdays - IN NØRREBRO
DESCRIPTION:Easy Games. New People. Good Vibes.\nSocial Saturday at Bastard Café Nørrebro is your weekly dose of connection and fun.\nWe keep it super simple:• Walk in• Get matched with a friendly group• Learn a fun\, fast\, easy game in two minutes• Laugh\, play\, and meet great people\nOur Gurus are there to help you jump in – and switch things up whenever you feel like it.\nNo sign-up\, no pressure – just a cozy table and good company.\n• When? Saturdays\, 14:00–17:00• Where? Bastard Café Nørrebro – Borgmestervangen 21• How much? Free\nCome hang out\, play a few rounds (or stay all afternoon)\, and make your Saturday a little more social.
URL:https://bastardcafe.dk/event/social-saturdays-in-norrebro/2030-12-14/
LOCATION:Bastard Café Nørrebro\, Borgmestervangen 21\, Copenhagen N\, 2200\, Denmark
ATTACH;FMTTYPE=image/png:https://bastardcafe.dk/wp-content/uploads/2025/11/FB-events-covers-3.png
END:VEVENT
BEGIN:VEVENT
DTSTART;TZID=Europe/Copenhagen:20301221T140000
DTEND;TZID=Europe/Copenhagen:20301221T180000
DTSTAMP:20260422T065030
CREATED:20260325T181219Z
LAST-MODIFIED:20260325T181219Z
UID:10001706-1924092000-1924106400@bastardcafe.dk
SUMMARY:Social Saturdays - IN NØRREBRO
DESCRIPTION:Easy Games. New People. Good Vibes.\nSocial Saturday at Bastard Café Nørrebro is your weekly dose of connection and fun.\nWe keep it super simple:• Walk in• Get matched with a friendly group• Learn a fun\, fast\, easy game in two minutes• Laugh\, play\, and meet great people\nOur Gurus are there to help you jump in – and switch things up whenever you feel like it.\nNo sign-up\, no pressure – just a cozy table and good company.\n• When? Saturdays\, 14:00–17:00• Where? Bastard Café Nørrebro – Borgmestervangen 21• How much? Free\nCome hang out\, play a few rounds (or stay all afternoon)\, and make your Saturday a little more social.
URL:https://bastardcafe.dk/event/social-saturdays-in-norrebro/2030-12-21/
LOCATION:Bastard Café Nørrebro\, Borgmestervangen 21\, Copenhagen N\, 2200\, Denmark
ATTACH;FMTTYPE=image/png:https://bastardcafe.dk/wp-content/uploads/2025/11/FB-events-covers-3.png
END:VEVENT
BEGIN:VEVENT
DTSTART;TZID=Europe/Copenhagen:20301228T140000
DTEND;TZID=Europe/Copenhagen:20301228T180000
DTSTAMP:20260422T065030
CREATED:20260325T181219Z
LAST-MODIFIED:20260325T181219Z
UID:10001707-1924696800-1924711200@bastardcafe.dk
SUMMARY:Social Saturdays - IN NØRREBRO
DESCRIPTION:Easy Games. New People. Good Vibes.\nSocial Saturday at Bastard Café Nørrebro is your weekly dose of connection and fun.\nWe keep it super simple:• Walk in• Get matched with a friendly group• Learn a fun\, fast\, easy game in two minutes• Laugh\, play\, and meet great people\nOur Gurus are there to help you jump in – and switch things up whenever you feel like it.\nNo sign-up\, no pressure – just a cozy table and good company.\n• When? Saturdays\, 14:00–17:00• Where? Bastard Café Nørrebro – Borgmestervangen 21• How much? Free\nCome hang out\, play a few rounds (or stay all afternoon)\, and make your Saturday a little more social.
URL:https://bastardcafe.dk/event/social-saturdays-in-norrebro/2030-12-28/
LOCATION:Bastard Café Nørrebro\, Borgmestervangen 21\, Copenhagen N\, 2200\, Denmark
ATTACH;FMTTYPE=image/png:https://bastardcafe.dk/wp-content/uploads/2025/11/FB-events-covers-3.png
END:VEVENT
BEGIN:VEVENT
DTSTART;TZID=Europe/Copenhagen:20310104T140000
DTEND;TZID=Europe/Copenhagen:20310104T180000
DTSTAMP:20260422T065030
CREATED:20260325T181219Z
LAST-MODIFIED:20260325T181219Z
UID:10001708-1925301600-1925316000@bastardcafe.dk
SUMMARY:Social Saturdays - IN NØRREBRO
DESCRIPTION:Easy Games. New People. Good Vibes.\nSocial Saturday at Bastard Café Nørrebro is your weekly dose of connection and fun.\nWe keep it super simple:• Walk in• Get matched with a friendly group• Learn a fun\, fast\, easy game in two minutes• Laugh\, play\, and meet great people\nOur Gurus are there to help you jump in – and switch things up whenever you feel like it.\nNo sign-up\, no pressure – just a cozy table and good company.\n• When? Saturdays\, 14:00–17:00• Where? Bastard Café Nørrebro – Borgmestervangen 21• How much? Free\nCome hang out\, play a few rounds (or stay all afternoon)\, and make your Saturday a little more social.
URL:https://bastardcafe.dk/event/social-saturdays-in-norrebro/2031-01-04/
LOCATION:Bastard Café Nørrebro\, Borgmestervangen 21\, Copenhagen N\, 2200\, Denmark
ATTACH;FMTTYPE=image/png:https://bastardcafe.dk/wp-content/uploads/2025/11/FB-events-covers-3.png
END:VEVENT
BEGIN:VEVENT
DTSTART;TZID=Europe/Copenhagen:20310111T140000
DTEND;TZID=Europe/Copenhagen:20310111T180000
DTSTAMP:20260422T065030
CREATED:20260325T181219Z
LAST-MODIFIED:20260325T181219Z
UID:10001709-1925906400-1925920800@bastardcafe.dk
SUMMARY:Social Saturdays - IN NØRREBRO
DESCRIPTION:Easy Games. New People. Good Vibes.\nSocial Saturday at Bastard Café Nørrebro is your weekly dose of connection and fun.\nWe keep it super simple:• Walk in• Get matched with a friendly group• Learn a fun\, fast\, easy game in two minutes• Laugh\, play\, and meet great people\nOur Gurus are there to help you jump in – and switch things up whenever you feel like it.\nNo sign-up\, no pressure – just a cozy table and good company.\n• When? Saturdays\, 14:00–17:00• Where? Bastard Café Nørrebro – Borgmestervangen 21• How much? Free\nCome hang out\, play a few rounds (or stay all afternoon)\, and make your Saturday a little more social.
URL:https://bastardcafe.dk/event/social-saturdays-in-norrebro/2031-01-11/
LOCATION:Bastard Café Nørrebro\, Borgmestervangen 21\, Copenhagen N\, 2200\, Denmark
ATTACH;FMTTYPE=image/png:https://bastardcafe.dk/wp-content/uploads/2025/11/FB-events-covers-3.png
END:VEVENT
BEGIN:VEVENT
DTSTART;TZID=Europe/Copenhagen:20310118T140000
DTEND;TZID=Europe/Copenhagen:20310118T180000
DTSTAMP:20260422T065030
CREATED:20260325T181219Z
LAST-MODIFIED:20260325T181219Z
UID:10001710-1926511200-1926525600@bastardcafe.dk
SUMMARY:Social Saturdays - IN NØRREBRO
DESCRIPTION:Easy Games. New People. Good Vibes.\nSocial Saturday at Bastard Café Nørrebro is your weekly dose of connection and fun.\nWe keep it super simple:• Walk in• Get matched with a friendly group• Learn a fun\, fast\, easy game in two minutes• Laugh\, play\, and meet great people\nOur Gurus are there to help you jump in – and switch things up whenever you feel like it.\nNo sign-up\, no pressure – just a cozy table and good company.\n• When? Saturdays\, 14:00–17:00• Where? Bastard Café Nørrebro – Borgmestervangen 21• How much? Free\nCome hang out\, play a few rounds (or stay all afternoon)\, and make your Saturday a little more social.
URL:https://bastardcafe.dk/event/social-saturdays-in-norrebro/2031-01-18/
LOCATION:Bastard Café Nørrebro\, Borgmestervangen 21\, Copenhagen N\, 2200\, Denmark
ATTACH;FMTTYPE=image/png:https://bastardcafe.dk/wp-content/uploads/2025/11/FB-events-covers-3.png
END:VEVENT
BEGIN:VEVENT
DTSTART;TZID=Europe/Copenhagen:20310125T140000
DTEND;TZID=Europe/Copenhagen:20310125T180000
DTSTAMP:20260422T065030
CREATED:20260325T181219Z
LAST-MODIFIED:20260325T181219Z
UID:10001711-1927116000-1927130400@bastardcafe.dk
SUMMARY:Social Saturdays - IN NØRREBRO
DESCRIPTION:Easy Games. New People. Good Vibes.\nSocial Saturday at Bastard Café Nørrebro is your weekly dose of connection and fun.\nWe keep it super simple:• Walk in• Get matched with a friendly group• Learn a fun\, fast\, easy game in two minutes• Laugh\, play\, and meet great people\nOur Gurus are there to help you jump in – and switch things up whenever you feel like it.\nNo sign-up\, no pressure – just a cozy table and good company.\n• When? Saturdays\, 14:00–17:00• Where? Bastard Café Nørrebro – Borgmestervangen 21• How much? Free\nCome hang out\, play a few rounds (or stay all afternoon)\, and make your Saturday a little more social.
URL:https://bastardcafe.dk/event/social-saturdays-in-norrebro/2031-01-25/
LOCATION:Bastard Café Nørrebro\, Borgmestervangen 21\, Copenhagen N\, 2200\, Denmark
ATTACH;FMTTYPE=image/png:https://bastardcafe.dk/wp-content/uploads/2025/11/FB-events-covers-3.png
END:VEVENT
BEGIN:VEVENT
DTSTART;TZID=Europe/Copenhagen:20310201T140000
DTEND;TZID=Europe/Copenhagen:20310201T180000
DTSTAMP:20260422T065030
CREATED:20260325T181219Z
LAST-MODIFIED:20260325T181219Z
UID:10001712-1927720800-1927735200@bastardcafe.dk
SUMMARY:Social Saturdays - IN NØRREBRO
DESCRIPTION:Easy Games. New People. Good Vibes.\nSocial Saturday at Bastard Café Nørrebro is your weekly dose of connection and fun.\nWe keep it super simple:• Walk in• Get matched with a friendly group• Learn a fun\, fast\, easy game in two minutes• Laugh\, play\, and meet great people\nOur Gurus are there to help you jump in – and switch things up whenever you feel like it.\nNo sign-up\, no pressure – just a cozy table and good company.\n• When? Saturdays\, 14:00–17:00• Where? Bastard Café Nørrebro – Borgmestervangen 21• How much? Free\nCome hang out\, play a few rounds (or stay all afternoon)\, and make your Saturday a little more social.
URL:https://bastardcafe.dk/event/social-saturdays-in-norrebro/2031-02-01/
LOCATION:Bastard Café Nørrebro\, Borgmestervangen 21\, Copenhagen N\, 2200\, Denmark
ATTACH;FMTTYPE=image/png:https://bastardcafe.dk/wp-content/uploads/2025/11/FB-events-covers-3.png
END:VEVENT
BEGIN:VEVENT
DTSTART;TZID=Europe/Copenhagen:20310208T140000
DTEND;TZID=Europe/Copenhagen:20310208T180000
DTSTAMP:20260422T065030
CREATED:20260325T181219Z
LAST-MODIFIED:20260325T181219Z
UID:10001713-1928325600-1928340000@bastardcafe.dk
SUMMARY:Social Saturdays - IN NØRREBRO
DESCRIPTION:Easy Games. New People. Good Vibes.\nSocial Saturday at Bastard Café Nørrebro is your weekly dose of connection and fun.\nWe keep it super simple:• Walk in• Get matched with a friendly group• Learn a fun\, fast\, easy game in two minutes• Laugh\, play\, and meet great people\nOur Gurus are there to help you jump in – and switch things up whenever you feel like it.\nNo sign-up\, no pressure – just a cozy table and good company.\n• When? Saturdays\, 14:00–17:00• Where? Bastard Café Nørrebro – Borgmestervangen 21• How much? Free\nCome hang out\, play a few rounds (or stay all afternoon)\, and make your Saturday a little more social.
URL:https://bastardcafe.dk/event/social-saturdays-in-norrebro/2031-02-08/
LOCATION:Bastard Café Nørrebro\, Borgmestervangen 21\, Copenhagen N\, 2200\, Denmark
ATTACH;FMTTYPE=image/png:https://bastardcafe.dk/wp-content/uploads/2025/11/FB-events-covers-3.png
END:VEVENT
BEGIN:VEVENT
DTSTART;TZID=Europe/Copenhagen:20310215T140000
DTEND;TZID=Europe/Copenhagen:20310215T180000
DTSTAMP:20260422T065030
CREATED:20260325T181219Z
LAST-MODIFIED:20260325T181219Z
UID:10001714-1928930400-1928944800@bastardcafe.dk
SUMMARY:Social Saturdays - IN NØRREBRO
DESCRIPTION:Easy Games. New People. Good Vibes.\nSocial Saturday at Bastard Café Nørrebro is your weekly dose of connection and fun.\nWe keep it super simple:• Walk in• Get matched with a friendly group• Learn a fun\, fast\, easy game in two minutes• Laugh\, play\, and meet great people\nOur Gurus are there to help you jump in – and switch things up whenever you feel like it.\nNo sign-up\, no pressure – just a cozy table and good company.\n• When? Saturdays\, 14:00–17:00• Where? Bastard Café Nørrebro – Borgmestervangen 21• How much? Free\nCome hang out\, play a few rounds (or stay all afternoon)\, and make your Saturday a little more social.
URL:https://bastardcafe.dk/event/social-saturdays-in-norrebro/2031-02-15/
LOCATION:Bastard Café Nørrebro\, Borgmestervangen 21\, Copenhagen N\, 2200\, Denmark
ATTACH;FMTTYPE=image/png:https://bastardcafe.dk/wp-content/uploads/2025/11/FB-events-covers-3.png
END:VEVENT
BEGIN:VEVENT
DTSTART;TZID=Europe/Copenhagen:20310222T140000
DTEND;TZID=Europe/Copenhagen:20310222T180000
DTSTAMP:20260422T065030
CREATED:20260325T181219Z
LAST-MODIFIED:20260325T181219Z
UID:10001715-1929535200-1929549600@bastardcafe.dk
SUMMARY:Social Saturdays - IN NØRREBRO
DESCRIPTION:Easy Games. New People. Good Vibes.\nSocial Saturday at Bastard Café Nørrebro is your weekly dose of connection and fun.\nWe keep it super simple:• Walk in• Get matched with a friendly group• Learn a fun\, fast\, easy game in two minutes• Laugh\, play\, and meet great people\nOur Gurus are there to help you jump in – and switch things up whenever you feel like it.\nNo sign-up\, no pressure – just a cozy table and good company.\n• When? Saturdays\, 14:00–17:00• Where? Bastard Café Nørrebro – Borgmestervangen 21• How much? Free\nCome hang out\, play a few rounds (or stay all afternoon)\, and make your Saturday a little more social.
URL:https://bastardcafe.dk/event/social-saturdays-in-norrebro/2031-02-22/
LOCATION:Bastard Café Nørrebro\, Borgmestervangen 21\, Copenhagen N\, 2200\, Denmark
ATTACH;FMTTYPE=image/png:https://bastardcafe.dk/wp-content/uploads/2025/11/FB-events-covers-3.png
END:VEVENT
BEGIN:VEVENT
DTSTART;TZID=Europe/Copenhagen:20310301T140000
DTEND;TZID=Europe/Copenhagen:20310301T180000
DTSTAMP:20260422T065030
CREATED:20260325T181219Z
LAST-MODIFIED:20260325T181219Z
UID:10001716-1930140000-1930154400@bastardcafe.dk
SUMMARY:Social Saturdays - IN NØRREBRO
DESCRIPTION:Easy Games. New People. Good Vibes.\nSocial Saturday at Bastard Café Nørrebro is your weekly dose of connection and fun.\nWe keep it super simple:• Walk in• Get matched with a friendly group• Learn a fun\, fast\, easy game in two minutes• Laugh\, play\, and meet great people\nOur Gurus are there to help you jump in – and switch things up whenever you feel like it.\nNo sign-up\, no pressure – just a cozy table and good company.\n• When? Saturdays\, 14:00–17:00• Where? Bastard Café Nørrebro – Borgmestervangen 21• How much? Free\nCome hang out\, play a few rounds (or stay all afternoon)\, and make your Saturday a little more social.
URL:https://bastardcafe.dk/event/social-saturdays-in-norrebro/2031-03-01/
LOCATION:Bastard Café Nørrebro\, Borgmestervangen 21\, Copenhagen N\, 2200\, Denmark
ATTACH;FMTTYPE=image/png:https://bastardcafe.dk/wp-content/uploads/2025/11/FB-events-covers-3.png
END:VEVENT
BEGIN:VEVENT
DTSTART;TZID=Europe/Copenhagen:20310308T140000
DTEND;TZID=Europe/Copenhagen:20310308T180000
DTSTAMP:20260422T065030
CREATED:20260325T181219Z
LAST-MODIFIED:20260325T181219Z
UID:10001717-1930744800-1930759200@bastardcafe.dk
SUMMARY:Social Saturdays - IN NØRREBRO
DESCRIPTION:Easy Games. New People. Good Vibes.\nSocial Saturday at Bastard Café Nørrebro is your weekly dose of connection and fun.\nWe keep it super simple:• Walk in• Get matched with a friendly group• Learn a fun\, fast\, easy game in two minutes• Laugh\, play\, and meet great people\nOur Gurus are there to help you jump in – and switch things up whenever you feel like it.\nNo sign-up\, no pressure – just a cozy table and good company.\n• When? Saturdays\, 14:00–17:00• Where? Bastard Café Nørrebro – Borgmestervangen 21• How much? Free\nCome hang out\, play a few rounds (or stay all afternoon)\, and make your Saturday a little more social.
URL:https://bastardcafe.dk/event/social-saturdays-in-norrebro/2031-03-08/
LOCATION:Bastard Café Nørrebro\, Borgmestervangen 21\, Copenhagen N\, 2200\, Denmark
ATTACH;FMTTYPE=image/png:https://bastardcafe.dk/wp-content/uploads/2025/11/FB-events-covers-3.png
END:VEVENT
BEGIN:VEVENT
DTSTART;TZID=Europe/Copenhagen:20310315T140000
DTEND;TZID=Europe/Copenhagen:20310315T180000
DTSTAMP:20260422T065030
CREATED:20260325T181219Z
LAST-MODIFIED:20260325T181219Z
UID:10001718-1931349600-1931364000@bastardcafe.dk
SUMMARY:Social Saturdays - IN NØRREBRO
DESCRIPTION:Easy Games. New People. Good Vibes.\nSocial Saturday at Bastard Café Nørrebro is your weekly dose of connection and fun.\nWe keep it super simple:• Walk in• Get matched with a friendly group• Learn a fun\, fast\, easy game in two minutes• Laugh\, play\, and meet great people\nOur Gurus are there to help you jump in – and switch things up whenever you feel like it.\nNo sign-up\, no pressure – just a cozy table and good company.\n• When? Saturdays\, 14:00–17:00• Where? Bastard Café Nørrebro – Borgmestervangen 21• How much? Free\nCome hang out\, play a few rounds (or stay all afternoon)\, and make your Saturday a little more social.
URL:https://bastardcafe.dk/event/social-saturdays-in-norrebro/2031-03-15/
LOCATION:Bastard Café Nørrebro\, Borgmestervangen 21\, Copenhagen N\, 2200\, Denmark
ATTACH;FMTTYPE=image/png:https://bastardcafe.dk/wp-content/uploads/2025/11/FB-events-covers-3.png
END:VEVENT
BEGIN:VEVENT
DTSTART;TZID=Europe/Copenhagen:20310322T140000
DTEND;TZID=Europe/Copenhagen:20310322T180000
DTSTAMP:20260422T065030
CREATED:20260325T181219Z
LAST-MODIFIED:20260325T181219Z
UID:10001719-1931954400-1931968800@bastardcafe.dk
SUMMARY:Social Saturdays - IN NØRREBRO
DESCRIPTION:Easy Games. New People. Good Vibes.\nSocial Saturday at Bastard Café Nørrebro is your weekly dose of connection and fun.\nWe keep it super simple:• Walk in• Get matched with a friendly group• Learn a fun\, fast\, easy game in two minutes• Laugh\, play\, and meet great people\nOur Gurus are there to help you jump in – and switch things up whenever you feel like it.\nNo sign-up\, no pressure – just a cozy table and good company.\n• When? Saturdays\, 14:00–17:00• Where? Bastard Café Nørrebro – Borgmestervangen 21• How much? Free\nCome hang out\, play a few rounds (or stay all afternoon)\, and make your Saturday a little more social.
URL:https://bastardcafe.dk/event/social-saturdays-in-norrebro/2031-03-22/
LOCATION:Bastard Café Nørrebro\, Borgmestervangen 21\, Copenhagen N\, 2200\, Denmark
ATTACH;FMTTYPE=image/png:https://bastardcafe.dk/wp-content/uploads/2025/11/FB-events-covers-3.png
END:VEVENT
END:VCALENDAR